BEGIN:VCALENDAR
VERSION:2.0
PRODID:calendify.com
BEGIN:VEVENT
UID:calendify-session-rZEMNwQRgyK
DTSTART:20231229T120000Z
SEQUENCE:0
TRANSP:OPAQUE
DTEND:20231229T130000Z
URL:https://calendify.com/session/rZEMNwQRgyK
LOCATION:Bits & Bäume Workshop Space
SUMMARY:Lessons4Action: Zwischen Zynismus\, Apokalypse und Lastenfahrrad
CLASS:PUBLIC
DESCRIPTION:https://calendify.com/session/rZEMNwQRgyK
DTSTAMP:20260423T060127Z
CREATED:20231227T215002Z
LAST-MODIFIED:20240401T142932Z
END:VEVENT
END:VCALENDAR