BEGIN:VCALENDAR
VERSION:2.0
PRODID:calendify.com
BEGIN:VEVENT
UID:calendify-session-rZEMNwWDgyK
DTSTART:20231228T090000Z
SEQUENCE:0
TRANSP:OPAQUE
DTEND:20231228T130000Z
URL:https://calendify.com/session/rZEMNwWDgyK
LOCATION:Saal D
SUMMARY:Meet the CDC Critical Decentralization Cluster (Public Event)
CLASS:PUBLIC
DESCRIPTION:https://calendify.com/session/rZEMNwWDgyK
DTSTAMP:20260423T031937Z
CREATED:20231225T153003Z
LAST-MODIFIED:20240401T142932Z
END:VEVENT
END:VCALENDAR