BEGIN:VCALENDAR
VERSION:2.0
PRODID:calendify.com
BEGIN:VEVENT
UID:calendify-session-rZEMNwXQgyK
DTSTART:20231228T150000Z
SEQUENCE:0
TRANSP:OPAQUE
DTEND:20231228T160000Z
URL:https://calendify.com/session/rZEMNwXQgyK
LOCATION:Saal 1
SUMMARY:Hirne hacken: Hackback Edition
CLASS:PUBLIC
DESCRIPTION:https://calendify.com/session/rZEMNwXQgyK
DTSTAMP:20260423T031442Z
CREATED:20231215T204819Z
LAST-MODIFIED:20240401T142932Z
END:VEVENT
END:VCALENDAR