BEGIN:VCALENDAR
VERSION:2.0
PRODID:calendify.com
BEGIN:VEVENT
UID:calendify-session-rwXgA17GgxQ
DTSTART:20151228T114500Z
SEQUENCE:0
TRANSP:OPAQUE
DTEND:20151228T140000Z
URL:https://calendify.com/session/rwXgA17GgxQ
LOCATION:Hall G
SUMMARY:Lightning Talks Day 2
CLASS:PUBLIC
DESCRIPTION:https://calendify.com/session/rwXgA17GgxQ
DTSTAMP:20260423T211214Z
CREATED:20220415T142917Z
LAST-MODIFIED:20220415T142917Z
END:VEVENT
END:VCALENDAR