BEGIN:VCALENDAR
VERSION:2.0
PRODID:calendify.com
BEGIN:VEVENT
UID:calendify-session-rwXgA1RYgxQ
DTSTART:20220608T100000Z
SEQUENCE:0
TRANSP:OPAQUE
DTEND:20220608T110000Z
URL:https://calendify.com/session/rwXgA1RYgxQ
LOCATION:Workshop F
SUMMARY:How-To-Verfassungsklage — Sechs Vorschläge für einen Booster de
 r Europäischen Grundrechte und wie man sie einklagt
CLASS:PUBLIC
DESCRIPTION:https://calendify.com/session/rwXgA1RYgxQ
DTSTAMP:20260423T122606Z
CREATED:20220526T162944Z
LAST-MODIFIED:20220613T235204Z
END:VEVENT
END:VCALENDAR