BEGIN:VCALENDAR
VERSION:2.0
PRODID:calendify.com
BEGIN:VEVENT
UID:calendify-session-rwXgA1WKgxQ
DTSTART:20220608T161500Z
SEQUENCE:0
TRANSP:OPAQUE
DTEND:20220608T171500Z
URL:https://calendify.com/session/rwXgA1WKgxQ
LOCATION:Hoppetosse: Sonnendeck
SUMMARY:Wie nachhaltig ist KI? Ein Bewertungsansatz von SustAIn!
CLASS:PUBLIC
DESCRIPTION:https://calendify.com/session/rwXgA1WKgxQ
DTSTAMP:20260419T152159Z
CREATED:20220526T162945Z
LAST-MODIFIED:20220613T235204Z
END:VEVENT
END:VCALENDAR