BEGIN:VCALENDAR
VERSION:2.0
PRODID:calendify.com
BEGIN:VEVENT
UID:calendify-session-rwXgA1jYgxQ
DTSTART:20220206T113000Z
SEQUENCE:0
TRANSP:OPAQUE
DTEND:20220206T120000Z
URL:https://calendify.com/session/rwXgA1jYgxQ
LOCATION:D.libreoffice
SUMMARY:Improved coverage analysis for LibreOffice's CI
CLASS:PUBLIC
DESCRIPTION:https://calendify.com/session/rwXgA1jYgxQ
DTSTAMP:20260420T153743Z
CREATED:20220120T214608Z
LAST-MODIFIED:20220206T225004Z
END:VEVENT
END:VCALENDAR