BEGIN:VCALENDAR
VERSION:2.0
PRODID:calendify.com
BEGIN:VEVENT
UID:calendify-session-rwXgA1pjgxQ
DTSTART:20220205T090000Z
SEQUENCE:0
TRANSP:OPAQUE
DTEND:20220205T100000Z
URL:https://calendify.com/session/rwXgA1pjgxQ
LOCATION:M.rtc
SUMMARY:Jitsi: 20 years of Real Time Communications
CLASS:PUBLIC
DESCRIPTION:https://calendify.com/session/rwXgA1pjgxQ
DTSTAMP:20260421T060122Z
CREATED:20220201T170102Z
LAST-MODIFIED:20220206T225002Z
END:VEVENT
END:VCALENDAR