BEGIN:VCALENDAR
VERSION:2.0
PRODID:calendify.com
BEGIN:VEVENT
UID:calendify-session-rwXgA1rogxQ
DTSTART:20220611T172000Z
SEQUENCE:0
TRANSP:OPAQUE
DTEND:20220611T180500Z
URL:https://calendify.com/session/rwXgA1rogxQ
LOCATION:.txt Stage
SUMMARY:Writing against the machine
CLASS:PUBLIC
DESCRIPTION:https://calendify.com/session/rwXgA1rogxQ
DTSTAMP:20260423T174649Z
CREATED:20220526T162949Z
LAST-MODIFIED:20220613T235204Z
END:VEVENT
END:VCALENDAR