BEGIN:VCALENDAR
VERSION:2.0
PRODID:calendify.com
BEGIN:VEVENT
UID:calendify-session-rwXgA2124xQ
DTSTART:20210206T132000Z
SEQUENCE:0
TRANSP:OPAQUE
DTEND:20210206T134500Z
URL:https://calendify.com/session/rwXgA2124xQ
LOCATION:D.mariadb
SUMMARY:JSON Support: news\, non-news\, and the bigger picture
CLASS:PUBLIC
DESCRIPTION:https://calendify.com/session/rwXgA2124xQ
DTSTAMP:20260419T152509Z
CREATED:20210111T170319Z
LAST-MODIFIED:20210208T224802Z
END:VEVENT
END:VCALENDAR