BEGIN:VCALENDAR
VERSION:2.0
PRODID:calendify.com
BEGIN:VEVENT
UID:calendify-session-rwXgA2624xQ
DTSTART:20210308T133000Z
SEQUENCE:0
TRANSP:OPAQUE
URL:https://calendify.com/session/rwXgA2624xQ
LOCATION:Art and Media
SUMMARY:Ethan Camilleri- the journey of the boy and the book
CLASS:PUBLIC
DESCRIPTION:https://calendify.com/session/rwXgA2624xQ
DTSTAMP:20260420T173625Z
CREATED:20210426T094602Z
LAST-MODIFIED:20210426T094927Z
END:VEVENT
END:VCALENDAR