BEGIN:VCALENDAR
VERSION:2.0
PRODID:calendify.com
BEGIN:VEVENT
UID:calendify-session-rwXgA2Eo4xQ
DTSTART:20210206T122000Z
SEQUENCE:0
TRANSP:OPAQUE
DTEND:20210206T124500Z
URL:https://calendify.com/session/rwXgA2Eo4xQ
LOCATION:D.rtc
SUMMARY:Towards free\, private and secure communications
CLASS:PUBLIC
DESCRIPTION:https://calendify.com/session/rwXgA2Eo4xQ
DTSTAMP:20260420T011813Z
CREATED:20210113T115145Z
LAST-MODIFIED:20210208T224803Z
END:VEVENT
END:VCALENDAR