BEGIN:VCALENDAR
VERSION:2.0
PRODID:calendify.com
BEGIN:VEVENT
UID:calendify-session-rwXgA2lX4xQ
DTSTART:20210206T113000Z
SEQUENCE:0
TRANSP:OPAQUE
DTEND:20210206T123000Z
URL:https://calendify.com/session/rwXgA2lX4xQ
LOCATION:D.collab
SUMMARY:Blurring the Lines: Tiki 'No-Code/Low-Code' Empowers
CLASS:PUBLIC
DESCRIPTION:https://calendify.com/session/rwXgA2lX4xQ
DTSTAMP:20260420T130051Z
CREATED:20210111T170318Z
LAST-MODIFIED:20210208T224802Z
END:VEVENT
END:VCALENDAR