BEGIN:VCALENDAR
VERSION:2.0
PRODID:calendify.com
BEGIN:VEVENT
UID:calendify-session-rwXgA2mq4xQ
DTSTART:20210206T083000Z
SEQUENCE:0
TRANSP:OPAQUE
DTEND:20210206T093000Z
URL:https://calendify.com/session/rwXgA2mq4xQ
LOCATION:S.fedora
SUMMARY:Welcome to the Fedora Project stand!
CLASS:PUBLIC
DESCRIPTION:https://calendify.com/session/rwXgA2mq4xQ
DTSTAMP:20260420T012427Z
CREATED:20210125T190820Z
LAST-MODIFIED:20210208T224803Z
END:VEVENT
END:VCALENDAR