BEGIN:VCALENDAR
VERSION:2.0
PRODID:calendify.com
BEGIN:VEVENT
UID:calendify-session-rwXgA2nY4xQ
DTSTART:20210206T124500Z
SEQUENCE:0
TRANSP:OPAQUE
DTEND:20210206T134500Z
URL:https://calendify.com/session/rwXgA2nY4xQ
LOCATION:D.zig
SUMMARY:Welcome to the Zig Programming Language
CLASS:PUBLIC
DESCRIPTION:https://calendify.com/session/rwXgA2nY4xQ
DTSTAMP:20260419T224428Z
CREATED:20210111T170319Z
LAST-MODIFIED:20210208T224803Z
END:VEVENT
END:VCALENDAR