BEGIN:VCALENDAR
VERSION:2.0
PRODID:calendify.com
BEGIN:VEVENT
UID:calendify-session-rwXgA2xy4xQ
DTSTART:20210207T160000Z
SEQUENCE:0
TRANSP:OPAQUE
DTEND:20210207T164500Z
URL:https://calendify.com/session/rwXgA2xy4xQ
LOCATION:S.checkmk
SUMMARY:Checkmk Technical Demo
CLASS:PUBLIC
DESCRIPTION:https://calendify.com/session/rwXgA2xy4xQ
DTSTAMP:20260423T140030Z
CREATED:20210205T134804Z
LAST-MODIFIED:20210208T224804Z
END:VEVENT
END:VCALENDAR