BEGIN:VCALENDAR
VERSION:2.0
PRODID:calendify.com
BEGIN:VEVENT
UID:calendify-session-rwXgA2zj4xQ
DTSTART:20210207T133000Z
SEQUENCE:0
TRANSP:OPAQUE
DTEND:20210207T140500Z
URL:https://calendify.com/session/rwXgA2zj4xQ
LOCATION:D.web.performance
SUMMARY:Using the Firefox Profiler for web performance analysis
CLASS:PUBLIC
DESCRIPTION:https://calendify.com/session/rwXgA2zj4xQ
DTSTAMP:20260422T042437Z
CREATED:20210111T170320Z
LAST-MODIFIED:20210208T224804Z
END:VEVENT
END:VCALENDAR