BEGIN:VCALENDAR
VERSION:2.0
PRODID:calendify.com
BEGIN:VEVENT
UID:calendify-session-rwXgA7lKOxQ
DTSTART:20260131T123000Z
SEQUENCE:0
TRANSP:OPAQUE
DTEND:20260131T130000Z
URL:https://calendify.com/session/rwXgA7lKOxQ
LOCATION:K.4.201
SUMMARY:Rspamd: A Year of Features and LLM-Assisted Development
CLASS:PUBLIC
DESCRIPTION:https://calendify.com/session/rwXgA7lKOxQ
DTSTAMP:20260424T101148Z
CREATED:20260131T063242Z
LAST-MODIFIED:20260201T163222Z
END:VEVENT
END:VCALENDAR