BEGIN:VCALENDAR
VERSION:2.0
PRODID:calendify.com
BEGIN:VEVENT
UID:calendify-session-rwXgA9qjgxQ
DTSTART:20241228T150000Z
SEQUENCE:0
TRANSP:OPAQUE
DTEND:20241228T160000Z
URL:https://calendify.com/session/rwXgA9qjgxQ
LOCATION:House of Tea
SUMMARY:DN42 meetup
CLASS:PUBLIC
DESCRIPTION:https://calendify.com/session/rwXgA9qjgxQ
DTSTAMP:20260423T122929Z
CREATED:20241227T141506Z
LAST-MODIFIED:20250101T225002Z
END:VEVENT
END:VCALENDAR