BEGIN:VCALENDAR
VERSION:2.0
PRODID:calendify.com
BEGIN:VEVENT
UID:calendify-session-rwXgAD1GMxQ
DTSTART:20210316T144500Z
SEQUENCE:0
TRANSP:OPAQUE
DTEND:20210316T154500Z
URL:https://calendify.com/session/rwXgAD1GMxQ
LOCATION:Zoom Room 5B
SUMMARY:Tech Utopia’s: let’s reimagine the future
CLASS:PUBLIC
DESCRIPTION:https://calendify.com/session/rwXgAD1GMxQ
DTSTAMP:20260420T174405Z
CREATED:20210426T094929Z
LAST-MODIFIED:20210426T094929Z
END:VEVENT
END:VCALENDAR