BEGIN:VCALENDAR
VERSION:2.0
PRODID:calendify.com
BEGIN:VEVENT
UID:calendify-session-rwXgADAXMxQ
DTSTART:20220206T143000Z
SEQUENCE:0
TRANSP:OPAQUE
DTEND:20220206T151500Z
URL:https://calendify.com/session/rwXgADAXMxQ
LOCATION:M.community
SUMMARY:How Implicit Bias Affects Diversity and Inclusion in Open Source.
CLASS:PUBLIC
DESCRIPTION:https://calendify.com/session/rwXgADAXMxQ
DTSTAMP:20260422T110826Z
CREATED:20220120T214605Z
LAST-MODIFIED:20220206T225003Z
END:VEVENT
END:VCALENDAR