BEGIN:VCALENDAR
VERSION:2.0
PRODID:calendify.com
BEGIN:VEVENT
UID:calendify-session-rwXgADWnMxQ
DTSTART:20211229T173000Z
SEQUENCE:0
TRANSP:OPAQUE
DTEND:20211229T181000Z
URL:https://calendify.com/session/rwXgADWnMxQ
LOCATION:r3s - Monheim/Rhein
SUMMARY:Einblicke in die Entwicklung einer Open Source Kinofilm Kamera
CLASS:PUBLIC
DESCRIPTION:https://calendify.com/session/rwXgADWnMxQ
DTSTAMP:20260420T185042Z
CREATED:20211220T014017Z
LAST-MODIFIED:20211230T225002Z
END:VEVENT
END:VCALENDAR