BEGIN:VCALENDAR
VERSION:2.0
PRODID:calendify.com
BEGIN:VEVENT
UID:calendify-session-rwXgADYKMxQ
DTSTART:20211025T170000Z
SEQUENCE:0
TRANSP:OPAQUE
DTEND:20211025T174500Z
URL:https://calendify.com/session/rwXgADYKMxQ
LOCATION:Stream
SUMMARY:People might actually use this
CLASS:PUBLIC
DESCRIPTION:https://calendify.com/session/rwXgADYKMxQ
DTSTAMP:20260422T180105Z
CREATED:20210917T072557Z
LAST-MODIFIED:20211101T215003Z
END:VEVENT
END:VCALENDAR