BEGIN:VCALENDAR
VERSION:2.0
PRODID:calendify.com
BEGIN:VEVENT
UID:calendify-session-rwXgADmoMxQ
DTSTART:20211230T150000Z
SEQUENCE:0
TRANSP:OPAQUE
DTEND:20211230T160000Z
URL:https://calendify.com/session/rwXgADmoMxQ
LOCATION:Chaosstudio Hamburg
SUMMARY:ossia score live jam and talk
CLASS:PUBLIC
DESCRIPTION:https://calendify.com/session/rwXgADmoMxQ
DTSTAMP:20260420T203110Z
CREATED:20211220T014018Z
LAST-MODIFIED:20211230T225002Z
END:VEVENT
END:VCALENDAR