BEGIN:VCALENDAR
VERSION:2.0
PRODID:calendify.com
BEGIN:VEVENT
UID:calendify-session-rwXgADrGMxQ
DTSTART:20220205T122500Z
SEQUENCE:0
TRANSP:OPAQUE
DTEND:20220205T125000Z
URL:https://calendify.com/session/rwXgADrGMxQ
LOCATION:D.trusted-hardware
SUMMARY:Logging\, debugging and error management in Confidential Computing
CLASS:PUBLIC
DESCRIPTION:https://calendify.com/session/rwXgADrGMxQ
DTSTAMP:20260420T112655Z
CREATED:20220120T214602Z
LAST-MODIFIED:20220206T225002Z
END:VEVENT
END:VCALENDAR