BEGIN:VCALENDAR
VERSION:2.0
PRODID:calendify.com
BEGIN:VEVENT
UID:calendify-session-rwXgAJ1j4xQ
DTSTART:20221228T150000Z
SEQUENCE:0
TRANSP:OPAQUE
DTEND:20221228T153000Z
URL:https://calendify.com/session/rwXgAJ1j4xQ
LOCATION:c-base mainhall
SUMMARY:CubeR - Mondforschung und –Erkundung und modularen Nanorovern
CLASS:PUBLIC
DESCRIPTION:https://calendify.com/session/rwXgAJ1j4xQ
DTSTAMP:20260423T074756Z
CREATED:20221222T020102Z
LAST-MODIFIED:20221230T225002Z
END:VEVENT
END:VCALENDAR