BEGIN:VCALENDAR
VERSION:2.0
PRODID:calendify.com
BEGIN:VEVENT
UID:calendify-session-rwXgAJWX4xQ
DTSTART:20230610T184500Z
SEQUENCE:0
TRANSP:OPAQUE
DTEND:20230610T194500Z
URL:https://calendify.com/session/rwXgAJWX4xQ
LOCATION:Blauer Salon
SUMMARY:VAR WARS: A New Scope – Best of „Wo wir sind ist vorne.“ LIV
 E
CLASS:PUBLIC
DESCRIPTION:https://calendify.com/session/rwXgAJWX4xQ
DTSTAMP:20260421T151801Z
CREATED:20230527T091822Z
LAST-MODIFIED:20230611T215002Z
END:VEVENT
END:VCALENDAR