BEGIN:VCALENDAR
VERSION:2.0
PRODID:calendify.com
BEGIN:VEVENT
UID:calendify-session-rwXgAJlK4xQ
DTSTART:20221229T211500Z
SEQUENCE:0
TRANSP:OPAQUE
DTEND:20221229T230000Z
URL:https://calendify.com/session/rwXgAJlK4xQ
LOCATION:Fireshonks-Stream
SUMMARY:Die bequemsten Gepäckablagen im Fernverkehr der Deutschen Bahn
CLASS:PUBLIC
DESCRIPTION:https://calendify.com/session/rwXgAJlK4xQ
DTSTAMP:20260423T151718Z
CREATED:20221218T163043Z
LAST-MODIFIED:20221230T225003Z
END:VEVENT
END:VCALENDAR