BEGIN:VCALENDAR
VERSION:2.0
PRODID:calendify.com
BEGIN:VEVENT
UID:calendify-session-rwXgAJw24xQ
DTSTART:20230610T153000Z
SEQUENCE:0
TRANSP:OPAQUE
DTEND:20230610T174500Z
URL:https://calendify.com/session/rwXgAJw24xQ
LOCATION:Lounge VJ
SUMMARY:weirdwithcode
CLASS:PUBLIC
DESCRIPTION:https://calendify.com/session/rwXgAJw24xQ
DTSTAMP:20260423T155714Z
CREATED:20230604T134036Z
LAST-MODIFIED:20230611T215002Z
END:VEVENT
END:VCALENDAR