BEGIN:VCALENDAR
VERSION:2.0
PRODID:calendify.com
BEGIN:VEVENT
UID:calendify-session-rwXgAa33gxQ
DTSTART:20200202T131500Z
SEQUENCE:0
TRANSP:OPAQUE
DTEND:20200202T133000Z
URL:https://calendify.com/session/rwXgAa33gxQ
LOCATION:AW1.121
SUMMARY:KDE on FreeBSD
CLASS:PUBLIC
DESCRIPTION:https://calendify.com/session/rwXgAa33gxQ
DTSTAMP:20260422T014820Z
CREATED:20200513T234734Z
LAST-MODIFIED:20210426T093310Z
END:VEVENT
END:VCALENDAR