BEGIN:VCALENDAR
VERSION:2.0
PRODID:calendify.com
BEGIN:VEVENT
UID:calendify-session-rwXgAaZ2gxQ
DTSTART:20180512T170000Z
SEQUENCE:0
TRANSP:OPAQUE
DTEND:20180512T180000Z
URL:https://calendify.com/session/rwXgAaZ2gxQ
LOCATION:ZKM_Vortragssaal
SUMMARY:horizon EDA - ein Jahr später
CLASS:PUBLIC
DESCRIPTION:https://calendify.com/session/rwXgAaZ2gxQ
DTSTAMP:20260422T015332Z
CREATED:20200513T011828Z
LAST-MODIFIED:20200513T011828Z
END:VEVENT
END:VCALENDAR