BEGIN:VCALENDAR
VERSION:2.0
PRODID:calendify.com
BEGIN:VEVENT
UID:calendify-session-rwXgAljyMxQ
DTSTART:20180331T150000Z
SEQUENCE:0
TRANSP:OPAQUE
DTEND:20180331T160000Z
URL:https://calendify.com/session/rwXgAljyMxQ
LOCATION:Heisenberg 2
SUMMARY:Open Source Orgelbau
CLASS:PUBLIC
DESCRIPTION:https://calendify.com/session/rwXgAljyMxQ
DTSTAMP:20260422T210940Z
CREATED:20200520T231946Z
LAST-MODIFIED:20200520T231946Z
END:VEVENT
END:VCALENDAR