BEGIN:VCALENDAR
VERSION:2.0
PRODID:calendify.com
BEGIN:VEVENT
UID:calendify-session-rwXgAlnjMxQ
DTSTART:20171227T131500Z
SEQUENCE:0
TRANSP:OPAQUE
DTEND:20171227T134500Z
URL:https://calendify.com/session/rwXgAlnjMxQ
LOCATION:Saal Clarke
SUMMARY:WTFrance
CLASS:PUBLIC
DESCRIPTION:https://calendify.com/session/rwXgAlnjMxQ
DTSTAMP:20260424T024655Z
CREATED:20200625T113327Z
LAST-MODIFIED:20200625T113327Z
END:VEVENT
END:VCALENDAR