BEGIN:VCALENDAR
VERSION:2.0
PRODID:calendify.com
BEGIN:VEVENT
UID:calendify-session-rwXgAlw2MxQ
DTSTART:20201230T023000Z
SEQUENCE:0
TRANSP:OPAQUE
DTEND:20201230T063000Z
URL:https://calendify.com/session/rwXgAlw2MxQ
LOCATION:ChaosZone TV Stream
SUMMARY:Drum & Bass
CLASS:PUBLIC
DESCRIPTION:https://calendify.com/session/rwXgAlw2MxQ
DTSTAMP:20260423T052144Z
CREATED:20201221T231542Z
LAST-MODIFIED:20210114T154804Z
END:VEVENT
END:VCALENDAR