BEGIN:VCALENDAR
VERSION:2.0
PRODID:calendify.com
BEGIN:VEVENT
UID:calendify-session-rwXgAnEo4xQ
DTSTART:20231227T173000Z
SEQUENCE:0
TRANSP:OPAQUE
DTEND:20231227T180000Z
URL:https://calendify.com/session/rwXgAnEo4xQ
LOCATION:Kidspace - Workshopraum in Saal B
SUMMARY:GuteN8Geschichten - Tag 1
CLASS:PUBLIC
DESCRIPTION:https://calendify.com/session/rwXgAnEo4xQ
DTSTAMP:20260423T070450Z
CREATED:20231221T004752Z
LAST-MODIFIED:20240401T142932Z
END:VEVENT
END:VCALENDAR