BEGIN:VCALENDAR
VERSION:2.0
PRODID:calendify.com
BEGIN:VEVENT
UID:calendify-session-rwXgAnLn4xQ
DTSTART:20231230T150000Z
SEQUENCE:0
TRANSP:OPAQUE
DTEND:20231230T160000Z
URL:https://calendify.com/session/rwXgAnLn4xQ
LOCATION:Saal 1
SUMMARY:Oh no: KUNO - Gesperrte Girocards entsperren
CLASS:PUBLIC
DESCRIPTION:https://calendify.com/session/rwXgAnLn4xQ
DTSTAMP:20260422T162020Z
CREATED:20231215T204822Z
LAST-MODIFIED:20240401T142934Z
END:VEVENT
END:VCALENDAR