BEGIN:VCALENDAR
VERSION:2.0
PRODID:calendify.com
BEGIN:VEVENT
UID:calendify-session-rwXgAnZ34xQ
DTSTART:20231227T220000Z
SEQUENCE:0
TRANSP:OPAQUE
DTEND:20231227T224500Z
URL:https://calendify.com/session/rwXgAnZ34xQ
LOCATION:Sendezentrum Podcast Table (X12)
SUMMARY:Schiffsromantik
CLASS:PUBLIC
DESCRIPTION:https://calendify.com/session/rwXgAnZ34xQ
DTSTAMP:20260421T230551Z
CREATED:20231224T230004Z
LAST-MODIFIED:20240401T142932Z
END:VEVENT
END:VCALENDAR