BEGIN:VCALENDAR
VERSION:2.0
PRODID:calendify.com
BEGIN:VEVENT
UID:calendify-session-rwXgAneX4xQ
DTSTART:20231230T113000Z
SEQUENCE:0
TRANSP:OPAQUE
DTEND:20231230T120000Z
URL:https://calendify.com/session/rwXgAneX4xQ
LOCATION:Freie Arbeiter*innen Union (FAU)
SUMMARY:Anarchist meetup
CLASS:PUBLIC
DESCRIPTION:https://calendify.com/session/rwXgAneX4xQ
DTSTAMP:20260423T044110Z
CREATED:20231229T152004Z
LAST-MODIFIED:20240401T142934Z
END:VEVENT
END:VCALENDAR