BEGIN:VCALENDAR
VERSION:2.0
PRODID:calendify.com
BEGIN:VEVENT
UID:calendify-session-rwXgAnr24xQ
DTSTART:20240330T184500Z
SEQUENCE:0
TRANSP:OPAQUE
DTEND:20240330T204500Z
URL:https://calendify.com/session/rwXgAnr24xQ
LOCATION:Hardware Hegging Area - K005
SUMMARY:Löte deinen eigenen Smartphone Roboter
CLASS:PUBLIC
DESCRIPTION:https://calendify.com/session/rwXgAnr24xQ
DTSTAMP:20260423T151340Z
CREATED:20240328T125150Z
LAST-MODIFIED:20240401T142841Z
END:VEVENT
END:VCALENDAR