BEGIN:VCALENDAR
VERSION:2.0
PRODID:calendify.com
BEGIN:VEVENT
UID:calendify-session-rwXgAnwy4xQ
DTSTART:20231229T140000Z
SEQUENCE:0
TRANSP:OPAQUE
DTEND:20231229T143000Z
URL:https://calendify.com/session/rwXgAnwy4xQ
LOCATION:FOSS-HW Workshop Area [CDC Saal 3]
SUMMARY:Hacking the Orb
CLASS:PUBLIC
DESCRIPTION:https://calendify.com/session/rwXgAnwy4xQ
DTSTAMP:20260423T060132Z
CREATED:20231227T122002Z
LAST-MODIFIED:20240401T142933Z
END:VEVENT
END:VCALENDAR