BEGIN:VCALENDAR
VERSION:2.0
PRODID:calendify.com
BEGIN:VEVENT
UID:calendify-session-rwXgAnxy4xQ
DTSTART:20231230T160000Z
SEQUENCE:0
TRANSP:OPAQUE
DTEND:20231230T200000Z
URL:https://calendify.com/session/rwXgAnxy4xQ
LOCATION:Saal C
SUMMARY:Defragmentierung Saal C
CLASS:PUBLIC
DESCRIPTION:https://calendify.com/session/rwXgAnxy4xQ
DTSTAMP:20260423T031044Z
CREATED:20231228T103004Z
LAST-MODIFIED:20240401T142934Z
END:VEVENT
END:VCALENDAR