BEGIN:VCALENDAR
VERSION:2.0
PRODID:calendify.com
BEGIN:VEVENT
UID:calendify-session-rwXgAvvX4xQ
DTSTART:20240920T190000Z
SEQUENCE:0
TRANSP:OPAQUE
DTEND:20240920T210000Z
URL:https://calendify.com/session/rwXgAvvX4xQ
LOCATION:Bar
SUMMARY:Concert & Party feat. Unicorn Partisan\, Ophelia
CLASS:PUBLIC
DESCRIPTION:https://calendify.com/session/rwXgAvvX4xQ
DTSTAMP:20260420T233401Z
CREATED:20241208T220338Z
LAST-MODIFIED:20241208T220338Z
END:VEVENT
END:VCALENDAR