BEGIN:VCALENDAR
VERSION:2.0
PRODID:calendify.com
BEGIN:VEVENT
UID:calendify-session-vn54b2jG4kq
DTSTART:20241230T125000Z
SEQUENCE:0
TRANSP:OPAQUE
DTEND:20241230T133000Z
URL:https://calendify.com/session/vn54b2jG4kq
LOCATION:Stage HUFF
SUMMARY:Small seeds - why funding new ideas matters
CLASS:PUBLIC
DESCRIPTION:https://calendify.com/session/vn54b2jG4kq
DTSTAMP:20260424T120507Z
CREATED:20241227T141515Z
LAST-MODIFIED:20250101T225004Z
END:VEVENT
END:VCALENDAR