BEGIN:VCALENDAR
VERSION:2.0
PRODID:calendify.com
BEGIN:VEVENT
UID:calendify-session-vn54b55Wgkq
DTSTART:20240920T170000Z
SEQUENCE:0
TRANSP:OPAQUE
DTEND:20240920T193000Z
URL:https://calendify.com/session/vn54b55Wgkq
LOCATION:Kleiner Saal
SUMMARY:Digital Fight Club - Was hat das Netz je Gutes für uns getan?
CLASS:PUBLIC
DESCRIPTION:https://calendify.com/session/vn54b55Wgkq
DTSTAMP:20260422T112331Z
CREATED:20241208T220338Z
LAST-MODIFIED:20241208T220338Z
END:VEVENT
END:VCALENDAR