BEGIN:VCALENDAR
VERSION:2.0
PRODID:calendify.com
BEGIN:VEVENT
UID:calendify-session-vn54b5Qbgkq
DTSTART:20240922T113000Z
SEQUENCE:0
TRANSP:OPAQUE
DTEND:20240922T133000Z
URL:https://calendify.com/session/vn54b5Qbgkq
LOCATION:Kabinett
SUMMARY:Einführung in Embedded-Programmierung mit RIOT OS
CLASS:PUBLIC
DESCRIPTION:https://calendify.com/session/vn54b5Qbgkq
DTSTAMP:20260421T011933Z
CREATED:20241208T220338Z
LAST-MODIFIED:20241208T220338Z
END:VEVENT
END:VCALENDAR