BEGIN:VCALENDAR
VERSION:2.0
PRODID:calendify.com
BEGIN:VEVENT
UID:calendify-session-vn54bE0Rgkq
DTSTART:20200201T114000Z
SEQUENCE:0
TRANSP:OPAQUE
DTEND:20200201T115500Z
URL:https://calendify.com/session/vn54bE0Rgkq
LOCATION:UD2.119
SUMMARY:oVirt-Plugin for Bareos
CLASS:PUBLIC
DESCRIPTION:https://calendify.com/session/vn54bE0Rgkq
DTSTAMP:20260422T211406Z
CREATED:20200513T234731Z
LAST-MODIFIED:20210426T093308Z
END:VEVENT
END:VCALENDAR