BEGIN:VCALENDAR
VERSION:2.0
PRODID:calendify.com
BEGIN:VEVENT
UID:calendify-session-vn54bE2Ggkq
DTSTART:20190601T131500Z
SEQUENCE:0
TRANSP:OPAQUE
DTEND:20190601T141500Z
URL:https://calendify.com/session/vn54bE2Ggkq
LOCATION:ZKM_Medientheater
SUMMARY:CryptPad: practice and theory
CLASS:PUBLIC
DESCRIPTION:https://calendify.com/session/vn54bE2Ggkq
DTSTAMP:20260422T023235Z
CREATED:20200509T115113Z
LAST-MODIFIED:20200509T115113Z
END:VEVENT
END:VCALENDAR