BEGIN:VCALENDAR
VERSION:2.0
PRODID:calendify.com
BEGIN:VEVENT
UID:calendify-session-vn54bELbgkq
DTSTART:20180512T104500Z
SEQUENCE:0
TRANSP:OPAQUE
DTEND:20180512T111500Z
URL:https://calendify.com/session/vn54bELbgkq
LOCATION:ZKM_Vortragssaal
SUMMARY:Datacenter in a Box - High Performance Computing mobil
CLASS:PUBLIC
DESCRIPTION:https://calendify.com/session/vn54bELbgkq
DTSTAMP:20260422T031350Z
CREATED:20200513T011828Z
LAST-MODIFIED:20200513T011828Z
END:VEVENT
END:VCALENDAR