BEGIN:VCALENDAR
VERSION:2.0
PRODID:calendify.com
BEGIN:VEVENT
UID:calendify-session-vn54bEQGgkq
DTSTART:20190601T090000Z
SEQUENCE:0
TRANSP:OPAQUE
DTEND:20190601T100000Z
URL:https://calendify.com/session/vn54bEQGgkq
LOCATION:Anderswo
SUMMARY:Moderne Stoffwindelsysteme
CLASS:PUBLIC
DESCRIPTION:https://calendify.com/session/vn54bEQGgkq
DTSTAMP:20260420T172203Z
CREATED:20200509T115127Z
LAST-MODIFIED:20200509T115127Z
END:VEVENT
END:VCALENDAR