BEGIN:VCALENDAR
VERSION:2.0
PRODID:calendify.com
BEGIN:VEVENT
UID:calendify-session-vn54bEW0gkq
DTSTART:20200202T100500Z
SEQUENCE:0
TRANSP:OPAQUE
DTEND:20200202T103500Z
URL:https://calendify.com/session/vn54bEW0gkq
LOCATION:AW1.121
SUMMARY:NetBSD - Not Just For Toasters
CLASS:PUBLIC
DESCRIPTION:https://calendify.com/session/vn54bEW0gkq
DTSTAMP:20260422T144437Z
CREATED:20200513T234734Z
LAST-MODIFIED:20210426T093310Z
END:VEVENT
END:VCALENDAR